BEGIN:VCALENDAR
VERSION:2.0
PRODID:-//Contrabandistas Elda - ECPv6.6.4.2//NONSGML v1.0//EN
CALSCALE:GREGORIAN
METHOD:PUBLISH
X-ORIGINAL-URL:https://contrabandistaselda.es
X-WR-CALDESC:Eventos para Contrabandistas Elda
REFRESH-INTERVAL;VALUE=DURATION:PT1H
X-Robots-Tag:noindex
X-PUBLISHED-TTL:PT1H
BEGIN:VTIMEZONE
TZID:UTC
BEGIN:STANDARD
TZOFFSETFROM:+0000
TZOFFSETTO:+0000
TZNAME:UTC
DTSTART:20240101T000000
END:STANDARD
END:VTIMEZONE
BEGIN:VEVENT
DTSTART;TZID=UTC:20240601T210000
DTEND;TZID=UTC:20240602T040000
DTSTAMP:20260422T021213
CREATED:20240528T181103Z
LAST-MODIFIED:20240528T181103Z
UID:1287-1717275600-1717300800@contrabandistaselda.es
SUMMARY:Entradica Cristiana
DESCRIPTION:
URL:https://contrabandistaselda.es/calendario/entradica-cristiana/
LOCATION:Sede Contrabandista\, Gran Avenida\, 70\, Elda\, Alicante\, 03600\, España
END:VEVENT
END:VCALENDAR